BEGIN:VCALENDAR
VERSION:2.0
PRODID:SchoolNow
CALSCALE:GREGORIAN
BEGIN:VEVENT
UID:c57e22d0-2d8c-11ea-a529-0ab8d8dc94b5
DTSTAMP:20200226T152600Z
SUMMARY:CDD Board Meeting - Feb. 2020
LOCATION:The Quarry Beach Club located at 8975 Kayak Drive\, Naples\, Flori
 da 34120
URL;VALUE=URI:https://www.quarrycdd.org/calendar/2168884/cdd-board-meeting-
 feb-2020
DTSTART:20200219T180000Z
DTEND:20200219T190000Z
ATTACH;FILENAME=2020-02-17 QUARRY CDD AGENDA PACKAGE.pdf;FMTTYPE=applicatio
 n/pdf:https://campussuite-storage.s3.amazonaws.com/prod/1558996/8b73be98-2
 b38-11ea-b7c0-0adbfdcf7165/2055967/260f4b5c-58ac-11ea-a1ee-0a31df2f4829/fi
 le/2020-02-17 QUARRY CDD AGENDA PACKAGE.pdf
END:VEVENT
END:VCALENDAR
