BEGIN:VCALENDAR
VERSION:2.0
PRODID:SchoolNow
CALSCALE:GREGORIAN
BEGIN:VEVENT
UID:b990772a-2d8c-11ea-be3e-0ab8d8dc94b5
DTSTAMP:20200226T152548Z
SUMMARY:CDD Board Meeting - Jan. 2020
LOCATION:The Quarry Beach Club located at 8975 Kayak Drive\, Naples\, Flori
 da 34120
URL;VALUE=URI:https://www.quarrycdd.org/calendar/2168883/cdd-board-meeting-
 jan-2020
DTSTART:20200122T180000Z
DTEND:20200122T190000Z
ATTACH;FILENAME=2020-01-22 QUARRY CDD AGENDA PACKAGE.pdf;FMTTYPE=applicatio
 n/pdf:https://campussuite-storage.s3.amazonaws.com/prod/1558996/8b73be98-2
 b38-11ea-b7c0-0adbfdcf7165/2055966/260f476a-58ac-11ea-ab74-0a31df2f4829/fi
 le/2020-01-22 QUARRY CDD AGENDA PACKAGE.pdf
END:VEVENT
END:VCALENDAR
