BEGIN:VCALENDAR
VERSION:2.0
PRODID:SchoolNow
CALSCALE:GREGORIAN
BEGIN:VEVENT
UID:978dea0e-2d8c-11ea-870d-0ab8d8dc94b5
DTSTAMP:20200102T182834Z
SUMMARY:CDD Board Meeting - Nov. 2019
LOCATION:The Quarry Beach Club located at 8975 Kayak Drive\, Naples\, Flori
 da 34120
URL;VALUE=URI:https://www.quarrycdd.org/calendar/2168881/cdd-board-meeting-
 nov-2019
DTSTART:20191118T180000Z
DTEND:20191118T190000Z
ATTACH;FILENAME=2019-11-18 QUARRYCDD-AGENDAPACKAGE.pdf;FMTTYPE=application/
 pdf:https://campussuite-storage.s3.amazonaws.com/prod/1558996/8b73be98-2b3
 8-11ea-b7c0-0adbfdcf7165/2031256/57c31246-2be8-11ea-bee6-22000a97d21c/file
 /2019-11-18 QUARRYCDD-AGENDAPACKAGE.pdf
END:VEVENT
END:VCALENDAR
