BEGIN:VCALENDAR
VERSION:2.0
PRODID:SchoolNow
CALSCALE:GREGORIAN
BEGIN:VEVENT
UID:8a9bb0b0-2d8c-11ea-87e7-0ab8d8dc94b5
DTSTAMP:20200102T182814Z
SUMMARY:CDD Board Meeting - Oct. 2019
LOCATION:The Quarry Beach Club located at 8975 Kayak Drive\, Naples\, Flori
 da 34120
URL;VALUE=URI:https://www.quarrycdd.org/calendar/2168880/cdd-board-meeting-
 oct-2019
DTSTART:20191021T170000Z
DTEND:20191021T180000Z
ATTACH;FILENAME=2019-10-21 QUA-agenda.pdf;FMTTYPE=application/pdf:https://c
 ampussuite-storage.s3.amazonaws.com/prod/1558996/8b73be98-2b38-11ea-b7c0-0
 adbfdcf7165/2031255/523fc4b8-2be8-11ea-ad2d-22000a97d21c/file/2019-10-21 Q
 UA-agenda.pdf
END:VEVENT
END:VCALENDAR
